BEGIN:VCALENDAR
VERSION:2.0
PRODID:icalendar-ruby
CALSCALE:GREGORIAN
METHOD:PUBLISH
BEGIN:VEVENT
DTSTAMP:20260424T010116Z
UID:15-2197763@stmaryatlanta.org
DTSTART:20260809T151500Z
DTEND:20260809T161500Z
CLASS:PUBLIC
CREATED:20260423T194133
DESCRIPTION:
LAST-MODIFIED:20260423T194133
LOCATION:11450 Houze Road\, Roswell\, GA 30076
SUMMARY:Arabic Sermon
URL;VALUE=URI:https://www.stmaryatlanta.org/events/arabic-sermon/2026-08-09
END:VEVENT
END:VCALENDAR
