BEGIN:VCALENDAR
VERSION:2.0
PRODID:icalendar-ruby
CALSCALE:GREGORIAN
METHOD:PUBLISH
BEGIN:VEVENT
DTSTAMP:20260423T150706Z
UID:15-2191697@stmaryatlanta.org
DTSTART:20260628T151500Z
DTEND:20260628T161500Z
CLASS:PUBLIC
CREATED:20260423T105634
DESCRIPTION:
LAST-MODIFIED:20260423T105634
LOCATION:11450 Houze Road\, Roswell\, GA 30076
SUMMARY:Arabic Sermon
URL;VALUE=URI:https://www.stmaryatlanta.org/events/arabic-sermon/2026-06-28
END:VEVENT
END:VCALENDAR
