BEGIN:VCALENDAR
VERSION:2.0
PRODID:icalendar-ruby
CALSCALE:GREGORIAN
METHOD:PUBLISH
BEGIN:VEVENT
DTSTAMP:20260423T131716Z
UID:15-2189676@stmaryatlanta.org
DTSTART:20260621T151500Z
DTEND:20260621T161500Z
CLASS:PUBLIC
CREATED:20260423T080339
DESCRIPTION:
LAST-MODIFIED:20260423T080339
LOCATION:11450 Houze Road\, Roswell\, GA 30076
SUMMARY:Arabic Sermon
URL;VALUE=URI:https://www.stmaryatlanta.org/events/arabic-sermon/2026-06-21
END:VEVENT
END:VCALENDAR
