BEGIN:VCALENDAR
VERSION:2.0
PRODID:icalendar-ruby
CALSCALE:GREGORIAN
METHOD:PUBLISH
BEGIN:VEVENT
DTSTAMP:20260423T113459Z
UID:15-2187655@stmaryatlanta.org
DTSTART:20260614T151500Z
DTEND:20260614T161500Z
CLASS:PUBLIC
CREATED:20260422T223326
DESCRIPTION:
LAST-MODIFIED:20260422T223326
LOCATION:11450 Houze Road\, Roswell\, GA 30076
SUMMARY:Arabic Sermon
URL;VALUE=URI:https://www.stmaryatlanta.org/events/arabic-sermon/2026-06-14
END:VEVENT
END:VCALENDAR
