BEGIN:VCALENDAR
VERSION:2.0
PRODID:icalendar-ruby
CALSCALE:GREGORIAN
METHOD:PUBLISH
BEGIN:VEVENT
DTSTAMP:20260420T231906Z
UID:15-2161414@stmaryatlanta.org
DTSTART:20260524T151500Z
DTEND:20260524T161500Z
CLASS:PUBLIC
CREATED:20260420T180830
DESCRIPTION:
LAST-MODIFIED:20260420T180830
LOCATION:11450 Houze Road\, Roswell\, GA 30076
SUMMARY:Arabic Sermon
URL;VALUE=URI:https://www.stmaryatlanta.org/events/arabic-sermon/2026-05-24
END:VEVENT
END:VCALENDAR
